BEGIN:VCALENDAR
VERSION:2.0
PRODID:-//Spirit Central Cheer - ECPv6.15.20//NONSGML v1.0//EN
CALSCALE:GREGORIAN
METHOD:PUBLISH
X-ORIGINAL-URL:https://spiritcentralcheer.com
X-WR-CALDESC:Events for Spirit Central Cheer
REFRESH-INTERVAL;VALUE=DURATION:PT1H
X-Robots-Tag:noindex
X-PUBLISHED-TTL:PT1H
BEGIN:VTIMEZONE
TZID:America/New_York
BEGIN:DAYLIGHT
TZOFFSETFROM:-0500
TZOFFSETTO:-0400
TZNAME:EDT
DTSTART:20240310T070000
END:DAYLIGHT
BEGIN:STANDARD
TZOFFSETFROM:-0400
TZOFFSETTO:-0500
TZNAME:EST
DTSTART:20241103T060000
END:STANDARD
BEGIN:DAYLIGHT
TZOFFSETFROM:-0500
TZOFFSETTO:-0400
TZNAME:EDT
DTSTART:20250309T070000
END:DAYLIGHT
BEGIN:STANDARD
TZOFFSETFROM:-0400
TZOFFSETTO:-0500
TZNAME:EST
DTSTART:20251102T060000
END:STANDARD
BEGIN:DAYLIGHT
TZOFFSETFROM:-0500
TZOFFSETTO:-0400
TZNAME:EDT
DTSTART:20260308T070000
END:DAYLIGHT
BEGIN:STANDARD
TZOFFSETFROM:-0400
TZOFFSETTO:-0500
TZNAME:EST
DTSTART:20261101T060000
END:STANDARD
END:VTIMEZONE
BEGIN:VEVENT
DTSTART;TZID=America/New_York:20250818T083000
DTEND;TZID=America/New_York:20250821T160000
DTSTAMP:20260419T112425
CREATED:20250128T191848Z
LAST-MODIFIED:20250205T141428Z
UID:1063-1755505800-1755792000@spiritcentralcheer.com
SUMMARY:End of Summer Bash
DESCRIPTION:Celebrate the end of summer with a big bash full of games\, laughter\, and special surprises!
URL:https://spiritcentralcheer.com/summer-camp-dates
CATEGORIES:Summer Camps
END:VEVENT
BEGIN:VEVENT
DTSTART;TZID=America/New_York:20250811T083000
DTEND;TZID=America/New_York:20250814T160000
DTSTAMP:20260419T112425
CREATED:20250128T191801Z
LAST-MODIFIED:20250205T141507Z
UID:1062-1754901000-1755187200@spiritcentralcheer.com
SUMMARY:Moana Camp
DESCRIPTION:Set sail on an ocean adventure with Moana and friends as you explore the magic of the sea.
URL:https://spiritcentralcheer.com/summer-camp-dates
CATEGORIES:Summer Camps
END:VEVENT
BEGIN:VEVENT
DTSTART;TZID=America/New_York:20250804T083000
DTEND;TZID=America/New_York:20250807T160000
DTSTAMP:20260419T112425
CREATED:20250128T191709Z
LAST-MODIFIED:20250205T141514Z
UID:1061-1754296200-1754582400@spiritcentralcheer.com
SUMMARY:Animal Antics Camp
DESCRIPTION:Discover the wild side with a week dedicated to learning about and playing with animals.
URL:https://spiritcentralcheer.com/summer-camp-dates
CATEGORIES:Summer Camps
END:VEVENT
BEGIN:VEVENT
DTSTART;TZID=America/New_York:20250728T083000
DTEND;TZID=America/New_York:20250731T160000
DTSTAMP:20260419T112425
CREATED:20250128T191557Z
LAST-MODIFIED:20250205T141521Z
UID:1060-1753691400-1753977600@spiritcentralcheer.com
SUMMARY:Beach Camp
DESCRIPTION:Sand\, sun\, and surf—experience a beach-themed camp week packed with outdoor fun.
URL:https://spiritcentralcheer.com/summer-camp-dates
CATEGORIES:Summer Camps
END:VEVENT
BEGIN:VEVENT
DTSTART;TZID=America/New_York:20250721T083000
DTEND;TZID=America/New_York:20250724T160000
DTSTAMP:20260419T112425
CREATED:20250128T191508Z
LAST-MODIFIED:20250205T141528Z
UID:1059-1753086600-1753372800@spiritcentralcheer.com
SUMMARY:Tie-Dye Camp
DESCRIPTION:Get creative and colorful with all things tie-dye during this artsy and fun-filled week.
URL:https://spiritcentralcheer.com/summer-camp-dates
CATEGORIES:Summer Camps
END:VEVENT
BEGIN:VEVENT
DTSTART;TZID=America/New_York:20250714T083000
DTEND;TZID=America/New_York:20250717T160000
DTSTAMP:20260419T112425
CREATED:20250128T191326Z
LAST-MODIFIED:20250205T141533Z
UID:1058-1752481800-1752768000@spiritcentralcheer.com
SUMMARY:Minion Camp
DESCRIPTION:Enjoy mischievous adventures and wacky antics with the lovable Minions all week long!
URL:https://spiritcentralcheer.com/summer-camp-dates
CATEGORIES:Summer Camps
END:VEVENT
BEGIN:VEVENT
DTSTART;TZID=America/New_York:20250707T083000
DTEND;TZID=America/New_York:20250710T160000
DTSTAMP:20260419T112425
CREATED:20250128T191056Z
LAST-MODIFIED:20250205T141540Z
UID:1055-1751877000-1752163200@spiritcentralcheer.com
SUMMARY:Bluey Camp
DESCRIPTION:Dive into the colorful world of Bluey for a week filled with imagination\, play\, and family fun.
URL:https://spiritcentralcheer.com/summer-camp-dates
CATEGORIES:Summer Camps
END:VEVENT
BEGIN:VEVENT
DTSTART;TZID=America/New_York:20250623T083000
DTEND;TZID=America/New_York:20250626T160000
DTSTAMP:20260419T112425
CREATED:20250128T190910Z
LAST-MODIFIED:20250205T141546Z
UID:1054-1750667400-1750953600@spiritcentralcheer.com
SUMMARY:Sports Camp
DESCRIPTION:Get ready to play and compete in a variety of sports\, perfect for active campers!
URL:https://spiritcentralcheer.com/summer-camp-dates
CATEGORIES:Summer Camps
END:VEVENT
BEGIN:VEVENT
DTSTART;TZID=America/New_York:20250616T083000
DTEND;TZID=America/New_York:20250619T160000
DTSTAMP:20260419T112425
CREATED:20250127T211505Z
LAST-MODIFIED:20250205T141553Z
UID:1038-1750062600-1750348800@spiritcentralcheer.com
SUMMARY:Paw Patrol Camp
DESCRIPTION:Join the Paw Patrol team for action-packed adventures and teamwork-based fun!
URL:https://spiritcentralcheer.com/summer-camp-dates
CATEGORIES:Summer Camps
END:VEVENT
BEGIN:VEVENT
DTSTART;TZID=America/New_York:20250423T123000
DTEND;TZID=America/New_York:20250423T150000
DTSTAMP:20260419T112425
CREATED:20250324T165120Z
LAST-MODIFIED:20250324T165405Z
UID:1149-1745411400-1745420400@spiritcentralcheer.com
SUMMARY:Level 3+ Tryout Clinic
DESCRIPTION:[vc_row][vc_column][vc_single_image image=”1113″ img_size=”full” alignment=”center”][vc_empty_space][vc_column_text]Attend one of our tryout clinics to help prep yourself for you evaluation. Athletes registering MUST be at-least 8 years old at the time of the clinic. \nIn order to attend this clinic athletes MUST have at least 1 of the following skills. \n\nRoundoff Back Handspring Tuck\nRoundoff Back Handspring Layout\nRoundoff Back Handspring Full\nFront Walkover Aerial\nStanding Back Handspring Tuck OR Layout\n\nAthletes that are unable to do one of the following skills MUST register for our Level 1/2 Tryout Clinic. \nDate: 4/23/2025\nTime: 12:30pm – 3:00pm\nAges: 8+\nCost: $40[/vc_column_text][vc_empty_space][vc_button title=”REGISTER NOW” target=”_blank” full_width=”true” href=”https://app.acuityscheduling.com/schedule/7598fba3/appointment/74592003/calendar/4145868/datetime/2025-04-23T12%3A30%3A00-04%3A00?categories%5B%5D=Tryout+Clinics”][/vc_column][/vc_row]
URL:https://spiritcentralcheer.com/event/level-3-tryout-clinic/
CATEGORIES:Upcoming Events
ATTACH;FMTTYPE=image/png:https://spiritcentralcheer.com/wp-content/uploads/2025/03/SC-10.png
END:VEVENT
BEGIN:VEVENT
DTSTART;TZID=America/New_York:20250422T123000
DTEND;TZID=America/New_York:20250422T150000
DTSTAMP:20260419T112425
CREATED:20250324T164720Z
LAST-MODIFIED:20250324T164720Z
UID:1147-1745325000-1745334000@spiritcentralcheer.com
SUMMARY:Level 1 & 2 Tryout Clinic
DESCRIPTION:[vc_row][vc_column][vc_single_image image=”1148″ img_size=”full” alignment=”center”][vc_empty_space][vc_column_text]Attend one of our tryout clinics to help prep yourself for your evaluation. Athletes registering MUST be at least 8 years old at the time of the clinic. \nDate: 4/22/2025\nTime: 12:30pm – 3:00pm\nAges: 8+\nCost: $40[/vc_column_text][vc_empty_space][vc_button title=”REGISTER NOW” target=”_blank” full_width=”true” href=”https://app.acuityscheduling.com/schedule/7598fba3/appointment/74591535/calendar/4145868/datetime/2025-04-22T12%3A30%3A00-04%3A00?categories%5B%5D=Tryout+Clinics”][/vc_column][/vc_row]
URL:https://spiritcentralcheer.com/event/level-1-2-tryout-clinic/
CATEGORIES:Upcoming Events
ATTACH;FMTTYPE=image/jpeg:https://spiritcentralcheer.com/wp-content/uploads/2025/03/SC-9.jpg
END:VEVENT
BEGIN:VEVENT
DTSTART;TZID=America/New_York:20250421T123000
DTEND;TZID=America/New_York:20250421T153000
DTSTAMP:20260419T112425
CREATED:20250324T165718Z
LAST-MODIFIED:20250324T165718Z
UID:1151-1745238600-1745249400@spiritcentralcheer.com
SUMMARY:April Break Tumbling Clinic
DESCRIPTION:[vc_row][vc_column][vc_single_image image=”1152″ img_size=”full” alignment=”center”][vc_empty_space][vc_column_text]Come Tumble with us on your day off from school. This 3-hour clinic is perfect for those ages 6+ and is open to both members and non-members! \nDate: 4/21/2025\nTime: 12:30 pm – 3:30pm\nAges: 6+\nCost: $50[/vc_column_text][vc_empty_space][vc_button title=”REGISTER NOW” target=”_blank” full_width=”true” href=”https://app.acuityscheduling.com/schedule/7598fba3/appointment/71697019/calendar/any?appointmentTypeIds%5B%5D=71697019″][/vc_column][/vc_row]
URL:https://spiritcentralcheer.com/event/april-break-tumbling-clinic/
CATEGORIES:Upcoming Events
ATTACH;FMTTYPE=image/jpeg:https://spiritcentralcheer.com/wp-content/uploads/2025/03/W1.jpg
END:VEVENT
END:VCALENDAR